BEGIN:VCALENDAR
VERSION:2.0
PRODID:-//GCKSiR - ECPv6.15.15//NONSGML v1.0//EN
CALSCALE:GREGORIAN
METHOD:PUBLISH
X-WR-CALNAME:GCKSiR
X-ORIGINAL-URL:https://gckswilcza.pl
X-WR-CALDESC:Wydarzenia dla GCKSiR
REFRESH-INTERVAL;VALUE=DURATION:PT1H
X-Robots-Tag:noindex
X-PUBLISHED-TTL:PT1H
BEGIN:VTIMEZONE
TZID:Europe/Warsaw
BEGIN:DAYLIGHT
TZOFFSETFROM:+0100
TZOFFSETTO:+0200
TZNAME:CEST
DTSTART:20230326T010000
END:DAYLIGHT
BEGIN:STANDARD
TZOFFSETFROM:+0200
TZOFFSETTO:+0100
TZNAME:CET
DTSTART:20231029T010000
END:STANDARD
BEGIN:DAYLIGHT
TZOFFSETFROM:+0100
TZOFFSETTO:+0200
TZNAME:CEST
DTSTART:20240331T010000
END:DAYLIGHT
BEGIN:STANDARD
TZOFFSETFROM:+0200
TZOFFSETTO:+0100
TZNAME:CET
DTSTART:20241027T010000
END:STANDARD
BEGIN:DAYLIGHT
TZOFFSETFROM:+0100
TZOFFSETTO:+0200
TZNAME:CEST
DTSTART:20250330T010000
END:DAYLIGHT
BEGIN:STANDARD
TZOFFSETFROM:+0200
TZOFFSETTO:+0100
TZNAME:CET
DTSTART:20251026T010000
END:STANDARD
END:VTIMEZONE
BEGIN:VEVENT
DTSTART;TZID=Europe/Warsaw:20240121T160000
DTEND;TZID=Europe/Warsaw:20240121T183000
DTSTAMP:20260421T012441
CREATED:20240112T084617Z
LAST-MODIFIED:20240112T084617Z
UID:4456-1705852800-1705861800@gckswilcza.pl
SUMMARY:Koncert kolęd i pastorałek
DESCRIPTION:
URL:https://gckswilcza.pl/event/koncert-koled-i-pastoralek/
LOCATION:Parafia pw. św. Łukasza Ewangelisty w Mrowli\, Mrowla 79\, Mrowla\, podkarpackie\, 36-054\, Poland
CATEGORIES:Koncerty
ATTACH;FMTTYPE=image/jpeg:https://gckswilcza.pl/wp-content/uploads/2024/01/koncert-koled-2024-scaled.jpg
END:VEVENT
END:VCALENDAR