BEGIN:VCALENDAR
VERSION:2.0
PRODID:-//GCKSiR - ECPv6.15.15//NONSGML v1.0//EN
CALSCALE:GREGORIAN
METHOD:PUBLISH
X-WR-CALNAME:GCKSiR
X-ORIGINAL-URL:https://gckswilcza.pl
X-WR-CALDESC:Wydarzenia dla GCKSiR
REFRESH-INTERVAL;VALUE=DURATION:PT1H
X-Robots-Tag:noindex
X-PUBLISHED-TTL:PT1H
BEGIN:VTIMEZONE
TZID:Europe/Warsaw
BEGIN:DAYLIGHT
TZOFFSETFROM:+0100
TZOFFSETTO:+0200
TZNAME:CEST
DTSTART:20230326T010000
END:DAYLIGHT
BEGIN:STANDARD
TZOFFSETFROM:+0200
TZOFFSETTO:+0100
TZNAME:CET
DTSTART:20231029T010000
END:STANDARD
BEGIN:DAYLIGHT
TZOFFSETFROM:+0100
TZOFFSETTO:+0200
TZNAME:CEST
DTSTART:20240331T010000
END:DAYLIGHT
BEGIN:STANDARD
TZOFFSETFROM:+0200
TZOFFSETTO:+0100
TZNAME:CET
DTSTART:20241027T010000
END:STANDARD
BEGIN:DAYLIGHT
TZOFFSETFROM:+0100
TZOFFSETTO:+0200
TZNAME:CEST
DTSTART:20250330T010000
END:DAYLIGHT
BEGIN:STANDARD
TZOFFSETFROM:+0200
TZOFFSETTO:+0100
TZNAME:CET
DTSTART:20251026T010000
END:STANDARD
END:VTIMEZONE
BEGIN:VEVENT
DTSTART;TZID=Europe/Warsaw:20240317T090000
DTEND;TZID=Europe/Warsaw:20240317T140000
DTSTAMP:20260420T220342
CREATED:20240306T100551Z
LAST-MODIFIED:20240306T100551Z
UID:4880-1710666000-1710684000@gckswilcza.pl
SUMMARY:III Gminny Jarmark Wielkanocny
DESCRIPTION:
URL:https://gckswilcza.pl/event/iii-gminny-jarmark-wielkanocny/
LOCATION:Dzienny Dom Pomocy w Bratkowicach\, 395A Bratkowice\, Bratkowice\, 36-055\, Poland
ATTACH;FMTTYPE=image/jpeg:https://gckswilcza.pl/wp-content/uploads/2024/03/jarmark-wielkanocny-2024-scaled.jpg
END:VEVENT
END:VCALENDAR