BEGIN:VCALENDAR
VERSION:2.0
PRODID:-//GCKSiR - ECPv6.15.15//NONSGML v1.0//EN
CALSCALE:GREGORIAN
METHOD:PUBLISH
X-ORIGINAL-URL:https://gckswilcza.pl
X-WR-CALDESC:Wydarzenia dla GCKSiR
REFRESH-INTERVAL;VALUE=DURATION:PT1H
X-Robots-Tag:noindex
X-PUBLISHED-TTL:PT1H
BEGIN:VTIMEZONE
TZID:Europe/Warsaw
BEGIN:DAYLIGHT
TZOFFSETFROM:+0100
TZOFFSETTO:+0200
TZNAME:CEST
DTSTART:20240331T010000
END:DAYLIGHT
BEGIN:STANDARD
TZOFFSETFROM:+0200
TZOFFSETTO:+0100
TZNAME:CET
DTSTART:20241027T010000
END:STANDARD
BEGIN:DAYLIGHT
TZOFFSETFROM:+0100
TZOFFSETTO:+0200
TZNAME:CEST
DTSTART:20250330T010000
END:DAYLIGHT
BEGIN:STANDARD
TZOFFSETFROM:+0200
TZOFFSETTO:+0100
TZNAME:CET
DTSTART:20251026T010000
END:STANDARD
BEGIN:DAYLIGHT
TZOFFSETFROM:+0100
TZOFFSETTO:+0200
TZNAME:CEST
DTSTART:20260329T010000
END:DAYLIGHT
BEGIN:STANDARD
TZOFFSETFROM:+0200
TZOFFSETTO:+0100
TZNAME:CET
DTSTART:20261025T010000
END:STANDARD
END:VTIMEZONE
BEGIN:VEVENT
DTSTART;TZID=Europe/Warsaw:20251005T180000
DTEND;TZID=Europe/Warsaw:20251005T190000
DTSTAMP:20260419T162931
CREATED:20250924T121729Z
LAST-MODIFIED:20250924T121729Z
UID:10172-1759687200-1759690800@gckswilcza.pl
SUMMARY:Koncert Muzyki Bajkowej
DESCRIPTION:bajkowy 2025 plakat – 2
URL:https://gckswilcza.pl/event/koncert-muzyki-bajkowej/
LOCATION:GCKSiR – Trzciana\, Trzciana 353c\, Trzciana\, Podkarpackie\, 36-071\, Poland
ATTACH;FMTTYPE=image/jpeg:https://gckswilcza.pl/wp-content/uploads/2025/09/koncert-bajkowy-2025-plakat-scaled.jpg
END:VEVENT
END:VCALENDAR