BEGIN:VCALENDAR
VERSION:2.0
PRODID:-//GCKSiR - ECPv6.15.15//NONSGML v1.0//EN
CALSCALE:GREGORIAN
METHOD:PUBLISH
X-ORIGINAL-URL:https://gckswilcza.pl
X-WR-CALDESC:Wydarzenia dla GCKSiR
REFRESH-INTERVAL;VALUE=DURATION:PT1H
X-Robots-Tag:noindex
X-PUBLISHED-TTL:PT1H
BEGIN:VTIMEZONE
TZID:Europe/Warsaw
BEGIN:DAYLIGHT
TZOFFSETFROM:+0100
TZOFFSETTO:+0200
TZNAME:CEST
DTSTART:20220327T010000
END:DAYLIGHT
BEGIN:STANDARD
TZOFFSETFROM:+0200
TZOFFSETTO:+0100
TZNAME:CET
DTSTART:20221030T010000
END:STANDARD
BEGIN:DAYLIGHT
TZOFFSETFROM:+0100
TZOFFSETTO:+0200
TZNAME:CEST
DTSTART:20230326T010000
END:DAYLIGHT
BEGIN:STANDARD
TZOFFSETFROM:+0200
TZOFFSETTO:+0100
TZNAME:CET
DTSTART:20231029T010000
END:STANDARD
BEGIN:DAYLIGHT
TZOFFSETFROM:+0100
TZOFFSETTO:+0200
TZNAME:CEST
DTSTART:20240331T010000
END:DAYLIGHT
BEGIN:STANDARD
TZOFFSETFROM:+0200
TZOFFSETTO:+0100
TZNAME:CET
DTSTART:20241027T010000
END:STANDARD
BEGIN:DAYLIGHT
TZOFFSETFROM:+0100
TZOFFSETTO:+0200
TZNAME:CEST
DTSTART:20250330T010000
END:DAYLIGHT
BEGIN:STANDARD
TZOFFSETFROM:+0200
TZOFFSETTO:+0100
TZNAME:CET
DTSTART:20251026T010000
END:STANDARD
END:VTIMEZONE
BEGIN:VEVENT
DTSTART;TZID=Europe/Warsaw:20241012T090000
DTEND;TZID=Europe/Warsaw:20241012T183000
DTSTAMP:20260419T145330
CREATED:20241003T095251Z
LAST-MODIFIED:20241011T055035Z
UID:6973-1728723600-1728757800@gckswilcza.pl
SUMMARY:40. Ogólnopolski Konkurs Tradycyjnego Tańca Ludowego
DESCRIPTION:
URL:https://gckswilcza.pl/event/40-ogolnopolski-konkurs-tradycyjnego-tanca-ludowego/
LOCATION:GCKSiR – Trzciana\, Trzciana 353c\, Trzciana\, Podkarpackie\, 36-071\, Poland
ATTACH;FMTTYPE=image/jpeg:https://gckswilcza.pl/wp-content/uploads/2024/10/Plakat-ostateczny-krzywe-druk.jpg
ORGANIZER;CN="Wojew%C3%B3dzki Domu Kultury w Rzeszowie":MAILTO:wdk@kulturapodkarpacka.pl
END:VEVENT
BEGIN:VEVENT
DTSTART;TZID=Europe/Warsaw:20241005T161500
DTEND;TZID=Europe/Warsaw:20241005T180000
DTSTAMP:20260419T145330
CREATED:20241003T093704Z
LAST-MODIFIED:20241003T093704Z
UID:6970-1728144900-1728151200@gckswilcza.pl
SUMMARY:XII Ponadregionalny Przegląd Pieśni Maryjnej
DESCRIPTION:
URL:https://gckswilcza.pl/event/xii-ponadregionalny-przeglad-piesni-maryjnej/
LOCATION:Parafia pw. św. Łukasza Ewangelisty w Mrowli\, Mrowla 79\, Mrowla\, podkarpackie\, 36-054\, Poland
ATTACH;FMTTYPE=image/jpeg:https://gckswilcza.pl/wp-content/uploads/2024/10/XII-PONADREGIONALNY-KONKURS-PIESNI-MARYJNEJ.jpg
END:VEVENT
BEGIN:VEVENT
DTSTART;TZID=Europe/Warsaw:20240929T180000
DTEND;TZID=Europe/Warsaw:20240929T200000
DTSTAMP:20260419T145330
CREATED:20240924T105018Z
LAST-MODIFIED:20240924T105018Z
UID:6749-1727632800-1727640000@gckswilcza.pl
SUMMARY:Koncert Pieśni Religijnych
DESCRIPTION:
URL:https://gckswilcza.pl/event/koncert-piesni-religijnych/
LOCATION:Kościół Parafialny w Trzcianie\, Trzciana 140\, Trzciana\, podkarpackie\, 36-071\, Poland
ATTACH;FMTTYPE=image/png:https://gckswilcza.pl/wp-content/uploads/2024/09/5.png
END:VEVENT
BEGIN:VEVENT
DTSTART;TZID=Europe/Warsaw:20240928T180000
DTEND;TZID=Europe/Warsaw:20240928T193000
DTSTAMP:20260419T145330
CREATED:20240918T082639Z
LAST-MODIFIED:20240918T082639Z
UID:6740-1727546400-1727551800@gckswilcza.pl
SUMMARY:Koncert Folklorystyczny
DESCRIPTION:
URL:https://gckswilcza.pl/event/koncert-folklorystyczny-2/
LOCATION:GCKSiR – Trzciana\, Trzciana 353c\, Trzciana\, Podkarpackie\, 36-071\, Poland
ATTACH;FMTTYPE=image/jpeg:https://gckswilcza.pl/wp-content/uploads/2024/09/plakat.jpg
END:VEVENT
BEGIN:VEVENT
DTSTART;TZID=Europe/Warsaw:20240824T200000
DTEND;TZID=Europe/Warsaw:20240824T220000
DTSTAMP:20260419T145330
CREATED:20240821T065010Z
LAST-MODIFIED:20240821T065010Z
UID:6413-1724529600-1724536800@gckswilcza.pl
SUMMARY:Kino Plenerowe
DESCRIPTION:
URL:https://gckswilcza.pl/event/kino-plenerowe-2/
LOCATION:Plac przy Szkole w Błędowej Zgłobieńskiej\, Błędowa Zgłobieńska\, podkarpackie\, 36-071\, Poland
ATTACH;FMTTYPE=image/jpeg:https://gckswilcza.pl/wp-content/uploads/2024/08/Kino-24.08-scaled.jpg
END:VEVENT
BEGIN:VEVENT
DTSTART;TZID=Europe/Warsaw:20240818T140000
DTEND;TZID=Europe/Warsaw:20240819T000000
DTSTAMP:20260419T145330
CREATED:20240813T072919Z
LAST-MODIFIED:20240813T072919Z
UID:6201-1723989600-1724025600@gckswilcza.pl
SUMMARY:Dożynki Gminne
DESCRIPTION:
URL:https://gckswilcza.pl/event/dozynki-gminne/
LOCATION:Stadion Sportowy w Dąbrowie\, Dąbrowa\, podkarpackie\, Poland
ATTACH;FMTTYPE=image/jpeg:https://gckswilcza.pl/wp-content/uploads/2024/08/plakat-dozynki-2024.jpg
END:VEVENT
BEGIN:VEVENT
DTSTART;TZID=Europe/Warsaw:20240803T203000
DTEND;TZID=Europe/Warsaw:20240803T220000
DTSTAMP:20260419T145330
CREATED:20240726T123002Z
LAST-MODIFIED:20240726T123002Z
UID:6071-1722717000-1722722400@gckswilcza.pl
SUMMARY:Kino Plenerowe
DESCRIPTION:
URL:https://gckswilcza.pl/event/kino-plenerowe/
LOCATION:Woliczka – Stadion\, Woliczka\, podkarpackie\, 36-072\, Poland
ATTACH;FMTTYPE=image/jpeg:https://gckswilcza.pl/wp-content/uploads/2024/07/Kino-1.jpg
END:VEVENT
BEGIN:VEVENT
DTSTART;TZID=Europe/Warsaw:20240727T170000
DTEND;TZID=Europe/Warsaw:20240728T160000
DTSTAMP:20260419T145330
CREATED:20240718T105205Z
LAST-MODIFIED:20240718T105205Z
UID:5971-1722099600-1722182400@gckswilcza.pl
SUMMARY:80. rocznica "Akcji Burza"
DESCRIPTION:
URL:https://gckswilcza.pl/event/80-rocznica-akcji-burza/
LOCATION:Bratkowice – Park Podworski\, Park Dworski\, Bratkowice\, Podkarpackie\, 36-055\, Poland
ATTACH;FMTTYPE=image/jpeg:https://gckswilcza.pl/wp-content/uploads/2024/07/Akcja-Burza-2024-plakat-patronaty.jpg
END:VEVENT
BEGIN:VEVENT
DTSTART;TZID=Europe/Warsaw:20240721T160000
DTEND;TZID=Europe/Warsaw:20240722T000000
DTSTAMP:20260419T145330
CREATED:20240718T065058Z
LAST-MODIFIED:20240718T065058Z
UID:5968-1721577600-1721606400@gckswilcza.pl
SUMMARY:Turniej sołectw gminy Świlcza
DESCRIPTION:
URL:https://gckswilcza.pl/event/turniej-solectw-gminy-swilcza-2/
LOCATION:Rudna Wielka – Stadion\, Rudna Wielka 316\, Rudna Wielka\, 36-054\, Poland
ATTACH;FMTTYPE=image/jpeg:https://gckswilcza.pl/wp-content/uploads/2024/07/turniej-solectw-2024-scaled.jpg
END:VEVENT
BEGIN:VEVENT
DTSTART;TZID=Europe/Warsaw:20240713T170000
DTEND;TZID=Europe/Warsaw:20240714T000000
DTSTAMP:20260419T145330
CREATED:20240701T135312Z
LAST-MODIFIED:20240702T111044Z
UID:5833-1720890000-1720915200@gckswilcza.pl
SUMMARY:Podróż Artystyczna Regionami Kulturowymi -Żywiecczyzna
DESCRIPTION:
URL:https://gckswilcza.pl/event/podroz-artystyczna-regionami-kulturowymi-zywiecczyzna/
LOCATION:Bratkowice – Park Podworski\, Park Dworski\, Bratkowice\, Podkarpackie\, 36-055\, Poland
ATTACH;FMTTYPE=image/jpeg:https://gckswilcza.pl/wp-content/uploads/2024/07/Plakat-PARK-2024-zmiana-zespolu.jpg
END:VEVENT
BEGIN:VEVENT
DTSTART;TZID=Europe/Warsaw:20240706T190000
DTEND;TZID=Europe/Warsaw:20240707T000000
DTSTAMP:20260419T145330
CREATED:20240625T093155Z
LAST-MODIFIED:20240625T093155Z
UID:5792-1720292400-1720310400@gckswilcza.pl
SUMMARY:Wiejska Potańcówka
DESCRIPTION:
URL:https://gckswilcza.pl/event/wiejska-potancowka-2/
LOCATION:Trzciana – Stadion\, Stadion\, Trzciana\, Podkarpackie\, 36-071\, Poland
ATTACH;FMTTYPE=image/jpeg:https://gckswilcza.pl/wp-content/uploads/2024/06/potancowka-6-lipca-2024-scaled.jpg
END:VEVENT
BEGIN:VEVENT
DTSTART;TZID=Europe/Warsaw:20240629T120000
DTEND;TZID=Europe/Warsaw:20240629T160000
DTSTAMP:20260419T145330
CREATED:20240620T081100Z
LAST-MODIFIED:20240620T081100Z
UID:5689-1719662400-1719676800@gckswilcza.pl
SUMMARY:XVI Zawody Drwali
DESCRIPTION:
URL:https://gckswilcza.pl/event/xvi-zawody-drwali/
LOCATION:Bratkowice – Park Podworski\, Park Dworski\, Bratkowice\, Podkarpackie\, 36-055\, Poland
ATTACH;FMTTYPE=image/jpeg:https://gckswilcza.pl/wp-content/uploads/2024/06/turniej-drwali-2024-scaled.jpg
END:VEVENT
BEGIN:VEVENT
DTSTART;TZID=Europe/Warsaw:20240623T190000
DTEND;TZID=Europe/Warsaw:20240624T000000
DTSTAMP:20260419T145330
CREATED:20240619T093110Z
LAST-MODIFIED:20240619T134430Z
UID:5683-1719169200-1719187200@gckswilcza.pl
SUMMARY:Wiejska Potańcówka
DESCRIPTION:
URL:https://gckswilcza.pl/event/wiejska-potancowka/
LOCATION:Świlcza Stadion\, Świlcza DK 94 152\, Świlcza\, 36-072\, Poland
ATTACH;FMTTYPE=image/jpeg:https://gckswilcza.pl/wp-content/uploads/2024/06/potancowka-23-czerwca-2024-scaled.jpg
END:VEVENT
BEGIN:VEVENT
DTSTART;TZID=Europe/Warsaw:20240622T200000
DTEND;TZID=Europe/Warsaw:20240622T213000
DTSTAMP:20260419T145330
CREATED:20240610T125128Z
LAST-MODIFIED:20240610T125128Z
UID:5639-1719086400-1719091800@gckswilcza.pl
SUMMARY:Sobótki
DESCRIPTION:
URL:https://gckswilcza.pl/event/sobotki/
LOCATION:Stawy – Trzciana Dyndy\, Trzciana\, podkarpackie\, 36-072\, Poland
ATTACH;FMTTYPE=image/jpeg:https://gckswilcza.pl/wp-content/uploads/2024/06/Sobotki-plakat-scaled.jpg
END:VEVENT
BEGIN:VEVENT
DTSTART;TZID=Europe/Warsaw:20240616T180000
DTEND;TZID=Europe/Warsaw:20240616T200000
DTSTAMP:20260419T145330
CREATED:20240610T120827Z
LAST-MODIFIED:20240610T120827Z
UID:5636-1718560800-1718568000@gckswilcza.pl
SUMMARY:Festiwalowy Wehikuł Czasu
DESCRIPTION:
URL:https://gckswilcza.pl/event/festiwalowy-wehikul-czasu/
LOCATION:GCKSiR – Trzciana\, Trzciana 353c\, Trzciana\, Podkarpackie\, 36-071\, Poland
ATTACH;FMTTYPE=image/jpeg:https://gckswilcza.pl/wp-content/uploads/2024/06/FESTIWALOWY-WEHIKUL-CZASU.jpg
END:VEVENT
BEGIN:VEVENT
DTSTART;TZID=Europe/Warsaw:20240609T180000
DTEND;TZID=Europe/Warsaw:20240609T190000
DTSTAMP:20260419T145330
CREATED:20240528T074329Z
LAST-MODIFIED:20240528T074329Z
UID:5204-1717956000-1717959600@gckswilcza.pl
SUMMARY:Królewna Śnieżka i siedmiu krasnoludków
DESCRIPTION:
URL:https://gckswilcza.pl/event/krolewna-sniezka-i-siedmiu-krasnoludkow/
LOCATION:GCKSiR – Trzciana\, Trzciana 353c\, Trzciana\, Podkarpackie\, 36-071\, Poland
ATTACH;FMTTYPE=image/jpeg:https://gckswilcza.pl/wp-content/uploads/2024/05/plakat-sniezka-scaled.jpg
END:VEVENT
BEGIN:VEVENT
DTSTART;TZID=Europe/Warsaw:20240602T180000
DTEND;TZID=Europe/Warsaw:20240602T190000
DTSTAMP:20260419T145330
CREATED:20240520T113615Z
LAST-MODIFIED:20240520T113615Z
UID:5160-1717351200-1717354800@gckswilcza.pl
SUMMARY:Koncert Chórów GCKSiR
DESCRIPTION:
URL:https://gckswilcza.pl/event/koncert-chorow-gcksir/
LOCATION:GCKSiR w Świlczy (Dom Strażaka)\, Świlcza 151\, Świlcza\, podkarpackie\, 36-072\, Poland
ATTACH;FMTTYPE=image/jpeg:https://gckswilcza.pl/wp-content/uploads/2024/05/KONCERT-chorow-GCKSiR.jpg
END:VEVENT
BEGIN:VEVENT
DTSTART;TZID=Europe/Warsaw:20240601T180000
DTEND;TZID=Europe/Warsaw:20240601T200000
DTSTAMP:20260419T145330
CREATED:20240520T111507Z
LAST-MODIFIED:20240520T111507Z
UID:5157-1717264800-1717272000@gckswilcza.pl
SUMMARY:Zespół Taneczny Koloret SZALONE LATA 80-TE
DESCRIPTION:
URL:https://gckswilcza.pl/event/zespol-taneczny-koloret-szalone-lata-80-te/
LOCATION:GCKSiR – Trzciana\, Trzciana 353c\, Trzciana\, Podkarpackie\, 36-071\, Poland
ATTACH;FMTTYPE=image/jpeg:https://gckswilcza.pl/wp-content/uploads/2024/05/Koloret-plakat-3-2.jpg
END:VEVENT
BEGIN:VEVENT
DTSTART;TZID=Europe/Warsaw:20240521T190000
DTEND;TZID=Europe/Warsaw:20240521T203000
DTSTAMP:20260419T145330
CREATED:20240520T110856Z
LAST-MODIFIED:20240520T110856Z
UID:5154-1716318000-1716323400@gckswilcza.pl
SUMMARY:Dom kobiet
DESCRIPTION:
URL:https://gckswilcza.pl/event/dom-kobiet/
LOCATION:GCKSiR – Trzciana\, Trzciana 353c\, Trzciana\, Podkarpackie\, 36-071\, Poland
ATTACH;FMTTYPE=image/jpeg:https://gckswilcza.pl/wp-content/uploads/2024/05/dom-kobiet-ponawiamy.jpg
END:VEVENT
BEGIN:VEVENT
DTSTART;TZID=Europe/Warsaw:20240413T180000
DTEND;TZID=Europe/Warsaw:20240413T190000
DTSTAMP:20260419T145330
CREATED:20240402T085005Z
LAST-MODIFIED:20240402T085005Z
UID:5041-1713031200-1713034800@gckswilcza.pl
SUMMARY:Koncert Akordeonistów
DESCRIPTION:
URL:https://gckswilcza.pl/event/koncert-akordeonistow/
LOCATION:GCKSiR – Trzciana\, Trzciana 353c\, Trzciana\, Podkarpackie\, 36-071\, Poland
CATEGORIES:Koncerty
ATTACH;FMTTYPE=image/jpeg:https://gckswilcza.pl/wp-content/uploads/2024/04/koncert-akordeonistow.jpg
END:VEVENT
BEGIN:VEVENT
DTSTART;TZID=Europe/Warsaw:20240317T090000
DTEND;TZID=Europe/Warsaw:20240317T140000
DTSTAMP:20260419T145330
CREATED:20240306T100551Z
LAST-MODIFIED:20240306T100551Z
UID:4880-1710666000-1710684000@gckswilcza.pl
SUMMARY:III Gminny Jarmark Wielkanocny
DESCRIPTION:
URL:https://gckswilcza.pl/event/iii-gminny-jarmark-wielkanocny/
LOCATION:Dzienny Dom Pomocy w Bratkowicach\, 395A Bratkowice\, Bratkowice\, 36-055\, Poland
ATTACH;FMTTYPE=image/jpeg:https://gckswilcza.pl/wp-content/uploads/2024/03/jarmark-wielkanocny-2024-scaled.jpg
END:VEVENT
BEGIN:VEVENT
DTSTART;TZID=Europe/Warsaw:20240315T170000
DTEND;TZID=Europe/Warsaw:20240315T190000
DTSTAMP:20260419T145330
CREATED:20240307T113956Z
LAST-MODIFIED:20240307T113956Z
UID:4888-1710522000-1710529200@gckswilcza.pl
SUMMARY:MISTERIUM MĘKI PAŃSKIEJ
DESCRIPTION:
URL:https://gckswilcza.pl/event/misterium-meki-panskiej/
LOCATION:Parafia Matki Bożej Królowej Polski w Dąbrowie\, Dąbrowa 131\, Trzciana\, podkarpackie\, 36-071\, Poland
ATTACH;FMTTYPE=image/jpeg:https://gckswilcza.pl/wp-content/uploads/2024/03/428709732_381492671271820_5018231349877038540_n.jpg
END:VEVENT
BEGIN:VEVENT
DTSTART;TZID=Europe/Warsaw:20240309T180000
DTEND;TZID=Europe/Warsaw:20240309T190000
DTSTAMP:20260419T145330
CREATED:20240304T083909Z
LAST-MODIFIED:20240304T083909Z
UID:4874-1710007200-1710010800@gckswilcza.pl
SUMMARY:DZIEŃ KOBIET
DESCRIPTION:
URL:https://gckswilcza.pl/event/dzien-kobiet/
LOCATION:GCKSiR – Trzciana\, Trzciana 353c\, Trzciana\, Podkarpackie\, 36-071\, Poland
ATTACH;FMTTYPE=image/jpeg:https://gckswilcza.pl/wp-content/uploads/2024/03/Dzien-kobiet-2024-scaled.jpg
END:VEVENT
BEGIN:VEVENT
DTSTART;TZID=Europe/Warsaw:20240224T140000
DTEND;TZID=Europe/Warsaw:20240224T160000
DTSTAMP:20260419T145330
CREATED:20240216T180858Z
LAST-MODIFIED:20240216T181137Z
UID:4823-1708783200-1708790400@gckswilcza.pl
SUMMARY:Warsztaty Pisanki Wielkanocnej
DESCRIPTION:
URL:https://gckswilcza.pl/event/warsztaty-pisanki-wielkanocnej/
LOCATION:GCKSiR – Trzciana\, Trzciana 353c\, Trzciana\, Podkarpackie\, 36-071\, Poland
ATTACH;FMTTYPE=image/jpeg:https://gckswilcza.pl/wp-content/uploads/2024/02/warsztaty-pisanki-scaled.jpg
END:VEVENT
BEGIN:VEVENT
DTSTART;TZID=Europe/Warsaw:20240203T100000
DTEND;TZID=Europe/Warsaw:20240203T130000
DTSTAMP:20260419T145330
CREATED:20240126T093508Z
LAST-MODIFIED:20240126T093508Z
UID:4533-1706954400-1706965200@gckswilcza.pl
SUMMARY:BAL KOSTIUMOWY
DESCRIPTION:
URL:https://gckswilcza.pl/event/bal-kostiumowy/
LOCATION:GCKSiR – Trzciana\, Trzciana 353c\, Trzciana\, Podkarpackie\, 36-071\, Poland
ATTACH;FMTTYPE=image/jpeg:https://gckswilcza.pl/wp-content/uploads/2024/01/W-karnawale-tylko-bale-2024-scaled.jpg
END:VEVENT
BEGIN:VEVENT
DTSTART;TZID=Europe/Warsaw:20240121T160000
DTEND;TZID=Europe/Warsaw:20240121T183000
DTSTAMP:20260419T145330
CREATED:20240112T084617Z
LAST-MODIFIED:20240112T084617Z
UID:4456-1705852800-1705861800@gckswilcza.pl
SUMMARY:Koncert kolęd i pastorałek
DESCRIPTION:
URL:https://gckswilcza.pl/event/koncert-koled-i-pastoralek/
LOCATION:Parafia pw. św. Łukasza Ewangelisty w Mrowli\, Mrowla 79\, Mrowla\, podkarpackie\, 36-054\, Poland
CATEGORIES:Koncerty
ATTACH;FMTTYPE=image/jpeg:https://gckswilcza.pl/wp-content/uploads/2024/01/koncert-koled-2024-scaled.jpg
END:VEVENT
BEGIN:VEVENT
DTSTART;TZID=Europe/Warsaw:20240107T170000
DTEND;TZID=Europe/Warsaw:20240107T190000
DTSTAMP:20260419T145330
CREATED:20231229T080218Z
LAST-MODIFIED:20231229T080647Z
UID:4403-1704646800-1704654000@gckswilcza.pl
SUMMARY:Koncert Unplugged Christmas vol. 3
DESCRIPTION:
URL:https://gckswilcza.pl/event/koncert-unplugged-christmas-vol-3/
LOCATION:GCKSiR – Trzciana\, Trzciana 353c\, Trzciana\, Podkarpackie\, 36-071\, Poland
ATTACH;FMTTYPE=image/jpeg:https://gckswilcza.pl/wp-content/uploads/2023/12/unplugged-christmas-2024-scaled.jpg
END:VEVENT
BEGIN:VEVENT
DTSTART;TZID=Europe/Warsaw:20231217T180000
DTEND;TZID=Europe/Warsaw:20231217T180000
DTSTAMP:20260419T145330
CREATED:20231206T193122Z
LAST-MODIFIED:20231206T193537Z
UID:4081-1702836000-1702836000@gckswilcza.pl
SUMMARY:ŚWILCZAŃSKA KOLĘDA W ZGODZIE Z TRADYCJĄ
DESCRIPTION:
URL:https://gckswilcza.pl/event/swilczanska-koleda-w-zgodzie-z-tradycja/
LOCATION:GCKSiR – Trzciana\, Trzciana 353c\, Trzciana\, Podkarpackie\, 36-071\, Poland
ATTACH;FMTTYPE=image/png:https://gckswilcza.pl/wp-content/uploads/2023/12/Zdjecie-w-tle-do-wydarzeniw-w-formie-baneru.png
END:VEVENT
BEGIN:VEVENT
DTSTART;TZID=Europe/Warsaw:20231210T090000
DTEND;TZID=Europe/Warsaw:20231210T140000
DTSTAMP:20260419T145330
CREATED:20231206T191656Z
LAST-MODIFIED:20231207T082431Z
UID:4076-1702198800-1702216800@gckswilcza.pl
SUMMARY:II GMINNY JARMARK BOŻONARODZENIOWY
DESCRIPTION:
URL:https://gckswilcza.pl/event/ii-gminny-jarmark-bozonarodzeniowy/
LOCATION:Dom Ludowy w Błędowej Zgłobieńskiej\, Błędowa Zgłobieńska 110A\, Błędowa Zgłobieńska\, podkarpackie\, 36-071\, Poland
ATTACH;FMTTYPE=image/jpeg:https://gckswilcza.pl/wp-content/uploads/2023/12/jarmark-bozonarodzeniowy-2023-scaled.jpg
END:VEVENT
BEGIN:VEVENT
DTSTART;TZID=Europe/Warsaw:20231021T090000
DTEND;TZID=Europe/Warsaw:20231021T180000
DTSTAMP:20260419T145330
CREATED:20231018T042937Z
LAST-MODIFIED:20231022T103139Z
UID:3702-1697878800-1697911200@gckswilcza.pl
SUMMARY:39 Ogólnopolski Konkurs Tradycyjnego Tańca Ludowego - 21-22.10.2023
DESCRIPTION:Serdecznie zapraszamy na 39 Ogólnopolski Konkurs Tradycyjnego Tańca Ludowego\, który odbędzie się w dniach 21-22.10 br. \nPodczas tegorocznej edycji wystąpi 19 zespołów oraz 15 par tanecznych z pięciu województw naszego kraju (podkarpackiego\, małopolskiego\, świętokrzyskiego\, mazowieckiego oraz wielkopolskiego).\nPrzegląd konkursowy  rozpocznie się w sobotę o godzinie 9.00 w Gminnym Centrum Kultury w Trzcianie.\nKoncert galowy odbędzie się w niedzielę od godziny 11.00 w Wojewódzkim Domu Kultury w Rzeszowie. \nCałość poprowadzi Stanisław Jaskułka. \nOrganizatorami konkursu są: Wojewódzki Domu Kultury w Rzeszowie\, Gminne Centrum Kultury Sportu i Rekreacji w Trzcianie  oraz Ministerstwo Kultury i Dziedzictwa Narodowego. \nPatronat nad wydarzeniem objęli Marszałek Województwa Podkarpackiego oraz Wójt Gminy Świlcza. \n \n  \n  \n \n  \n 
URL:https://gckswilcza.pl/event/39-ogolnopolski-konkurs-tradycyjnego-tanca-ludowego-21-22-10-2023/
LOCATION:GCKSiR – Trzciana\, Trzciana 353c\, Trzciana\, Podkarpackie\, 36-071\, Poland
ATTACH;FMTTYPE=image/jpeg:https://gckswilcza.pl/wp-content/uploads/2023/10/Plakat-taniec-tradycyjny-2023.jpg
END:VEVENT
END:VCALENDAR