BEGIN:VCALENDAR
VERSION:2.0
PRODID:-//GCKSiR - ECPv6.15.15//NONSGML v1.0//EN
CALSCALE:GREGORIAN
METHOD:PUBLISH
X-ORIGINAL-URL:https://gckswilcza.pl
X-WR-CALDESC:Wydarzenia dla GCKSiR
REFRESH-INTERVAL;VALUE=DURATION:PT1H
X-Robots-Tag:noindex
X-PUBLISHED-TTL:PT1H
BEGIN:VTIMEZONE
TZID:Europe/Warsaw
BEGIN:DAYLIGHT
TZOFFSETFROM:+0100
TZOFFSETTO:+0200
TZNAME:CEST
DTSTART:20220327T010000
END:DAYLIGHT
BEGIN:STANDARD
TZOFFSETFROM:+0200
TZOFFSETTO:+0100
TZNAME:CET
DTSTART:20221030T010000
END:STANDARD
BEGIN:DAYLIGHT
TZOFFSETFROM:+0100
TZOFFSETTO:+0200
TZNAME:CEST
DTSTART:20230326T010000
END:DAYLIGHT
BEGIN:STANDARD
TZOFFSETFROM:+0200
TZOFFSETTO:+0100
TZNAME:CET
DTSTART:20231029T010000
END:STANDARD
BEGIN:DAYLIGHT
TZOFFSETFROM:+0100
TZOFFSETTO:+0200
TZNAME:CEST
DTSTART:20240331T010000
END:DAYLIGHT
BEGIN:STANDARD
TZOFFSETFROM:+0200
TZOFFSETTO:+0100
TZNAME:CET
DTSTART:20241027T010000
END:STANDARD
END:VTIMEZONE
BEGIN:VEVENT
DTSTART;VALUE=DATE:20230722
DTEND;VALUE=DATE:20230723
DTSTAMP:20260419T190635
CREATED:20230720T044513Z
LAST-MODIFIED:20230720T044921Z
UID:2442-1689984000-1690070399@gckswilcza.pl
SUMMARY:Zawody Drwali
DESCRIPTION:Zawody Drwali
URL:https://gckswilcza.pl/event/zawody-drwali/
LOCATION:Bratkowice – Stadion\, Stadion\, Bratkowice\, Podkarpackie\, 36-055\, Poland
CATEGORIES:Koncerty
ATTACH;FMTTYPE=image/jpeg:https://gckswilcza.pl/wp-content/uploads/2023/06/Zawody-drwali-scaled.jpg
END:VEVENT
BEGIN:VEVENT
DTSTART;VALUE=DATE:20230716
DTEND;VALUE=DATE:20230717
DTSTAMP:20260419T190635
CREATED:20230627T113639Z
LAST-MODIFIED:20230627T113639Z
UID:2438-1689465600-1689551999@gckswilcza.pl
SUMMARY:XIX Światowy Festiwal Polonijnych Zespołów Folklorystycznych
DESCRIPTION:XIX Światowy Festiwal Polonijnych Zespołów Folklorystycznych
URL:https://gckswilcza.pl/event/xix-swiatowy-festiwal-polonijnych-zespolow-folklorystycznych/
LOCATION:Rudna Mała – Stadion\, Stadion\, Rudna Mała\, Podkarpackie\, 36-060\, Poland
CATEGORIES:Koncerty
ATTACH;FMTTYPE=image/jpeg:https://gckswilcza.pl/wp-content/uploads/2023/06/20230716-scaled.jpg
END:VEVENT
BEGIN:VEVENT
DTSTART;VALUE=DATE:20230715
DTEND;VALUE=DATE:20230716
DTSTAMP:20260419T190635
CREATED:20230627T100936Z
LAST-MODIFIED:20230627T110333Z
UID:2423-1689379200-1689465599@gckswilcza.pl
SUMMARY:Podróż Artystyczna Regionami Kulturowymi - PARK - edycja 2 Podhale
DESCRIPTION:Podróż Artystyczna Regionami Kulturowymi – PARK – edycja 2 Podhale
URL:https://gckswilcza.pl/event/podroz-artystyczna-regionami-kulturowymi-park-edycja-2-podhale/
LOCATION:Bratkowice – Park Podworski\, Park Dworski\, Bratkowice\, Podkarpackie\, 36-055\, Poland
CATEGORIES:Koncerty
ATTACH;FMTTYPE=image/jpeg:https://gckswilcza.pl/wp-content/uploads/2023/06/20230715-scaled.jpg
END:VEVENT
BEGIN:VEVENT
DTSTART;TZID=Europe/Warsaw:20230624T180000
DTEND;TZID=Europe/Warsaw:20230624T203000
DTSTAMP:20260419T190635
CREATED:20230620T092809Z
LAST-MODIFIED:20230627T094630Z
UID:2412-1687629600-1687638600@gckswilcza.pl
SUMMARY:Koncert Folklorystyczny
DESCRIPTION:Ze względu na niepewne warunki pogodowe koncert folklorystyczny odbędzie się w sali widowiskowej GCKSiR w Trzcianie.\nStart godzina 18.00\nSerdecznie zapraszamy
URL:https://gckswilcza.pl/event/koncert-folklorystyczny/
LOCATION:GCKSiR – Trzciana\, Trzciana 353c\, Trzciana\, Podkarpackie\, 36-071\, Poland
CATEGORIES:Koncerty
ATTACH;FMTTYPE=image/jpeg:https://gckswilcza.pl/wp-content/uploads/2023/06/20230624.jpg
END:VEVENT
BEGIN:VEVENT
DTSTART;TZID=Europe/Warsaw:20230621T170000
DTEND;TZID=Europe/Warsaw:20230621T170000
DTSTAMP:20260419T190635
CREATED:20230618T093401Z
LAST-MODIFIED:20230627T094556Z
UID:2420-1687366800-1687366800@gckswilcza.pl
SUMMARY:Zakończenie roku artystycznego - Grupa Teatralna "TESPIS"
DESCRIPTION:Zapraszamy w najbliższą środę na zakończenie roku artystycznego Grupy Teatralnej Tespis. Młodzi artyści przygotowali na tę okazję aż dwie premiery. \nSzczegóły na plakacie.
URL:https://gckswilcza.pl/event/zakonczenie-roku-artystycznego-grupa-teatralna-tespis/
LOCATION:Podkarpackie
CATEGORIES:Koncerty
ATTACH;FMTTYPE=image/jpeg:https://gckswilcza.pl/wp-content/uploads/2023/04/gt-tespis.jpg
END:VEVENT
BEGIN:VEVENT
DTSTART;TZID=Europe/Warsaw:20230527T100000
DTEND;TZID=Europe/Warsaw:20230527T170000
DTSTAMP:20260419T190635
CREATED:20230415T150713Z
LAST-MODIFIED:20230415T153525Z
UID:1221-1685181600-1685206800@gckswilcza.pl
SUMMARY:Koncert GCKSiR 18 lat
DESCRIPTION:
URL:https://gckswilcza.pl/event/koncert-gcksir-18-lat/
LOCATION:GCKSiR – Trzciana\, Trzciana 353c\, Trzciana\, Podkarpackie\, 36-071\, Poland
CATEGORIES:Koncerty
END:VEVENT
END:VCALENDAR