BEGIN:VCALENDAR
VERSION:2.0
PRODID:-//GCKSiR - ECPv6.15.15//NONSGML v1.0//EN
CALSCALE:GREGORIAN
METHOD:PUBLISH
X-WR-CALNAME:GCKSiR
X-ORIGINAL-URL:https://gckswilcza.pl
X-WR-CALDESC:Wydarzenia dla GCKSiR
REFRESH-INTERVAL;VALUE=DURATION:PT1H
X-Robots-Tag:noindex
X-PUBLISHED-TTL:PT1H
BEGIN:VTIMEZONE
TZID:Europe/Warsaw
BEGIN:DAYLIGHT
TZOFFSETFROM:+0100
TZOFFSETTO:+0200
TZNAME:CEST
DTSTART:20220327T010000
END:DAYLIGHT
BEGIN:STANDARD
TZOFFSETFROM:+0200
TZOFFSETTO:+0100
TZNAME:CET
DTSTART:20221030T010000
END:STANDARD
BEGIN:DAYLIGHT
TZOFFSETFROM:+0100
TZOFFSETTO:+0200
TZNAME:CEST
DTSTART:20230326T010000
END:DAYLIGHT
BEGIN:STANDARD
TZOFFSETFROM:+0200
TZOFFSETTO:+0100
TZNAME:CET
DTSTART:20231029T010000
END:STANDARD
BEGIN:DAYLIGHT
TZOFFSETFROM:+0100
TZOFFSETTO:+0200
TZNAME:CEST
DTSTART:20240331T010000
END:DAYLIGHT
BEGIN:STANDARD
TZOFFSETFROM:+0200
TZOFFSETTO:+0100
TZNAME:CET
DTSTART:20241027T010000
END:STANDARD
END:VTIMEZONE
BEGIN:VEVENT
DTSTART;TZID=Europe/Warsaw:20231001T140000
DTEND;TZID=Europe/Warsaw:20231001T210000
DTSTAMP:20260421T044051
CREATED:20230922T161806Z
LAST-MODIFIED:20230922T162426Z
UID:3382-1696168800-1696194000@gckswilcza.pl
SUMMARY:VI Bieg ulicami Świlczy - Memoriał Kpt. T. Kirchnera
DESCRIPTION:
URL:https://gckswilcza.pl/event/vi-bieg-ulicami-swilczy-memorial-kpt-t-kirchnera/
LOCATION:Świlcza Stadion\, Świlcza DK 94 152\, Świlcza\, 36-072\, Poland
ATTACH;FMTTYPE=image/jpeg:https://gckswilcza.pl/wp-content/uploads/2023/09/plakat-6-bieg_page-0001-scaled.jpg
END:VEVENT
BEGIN:VEVENT
DTSTART;TZID=Europe/Warsaw:20231021T090000
DTEND;TZID=Europe/Warsaw:20231021T180000
DTSTAMP:20260421T044051
CREATED:20231018T042937Z
LAST-MODIFIED:20231022T103139Z
UID:3702-1697878800-1697911200@gckswilcza.pl
SUMMARY:39 Ogólnopolski Konkurs Tradycyjnego Tańca Ludowego - 21-22.10.2023
DESCRIPTION:Serdecznie zapraszamy na 39 Ogólnopolski Konkurs Tradycyjnego Tańca Ludowego\, który odbędzie się w dniach 21-22.10 br. \nPodczas tegorocznej edycji wystąpi 19 zespołów oraz 15 par tanecznych z pięciu województw naszego kraju (podkarpackiego\, małopolskiego\, świętokrzyskiego\, mazowieckiego oraz wielkopolskiego).\nPrzegląd konkursowy  rozpocznie się w sobotę o godzinie 9.00 w Gminnym Centrum Kultury w Trzcianie.\nKoncert galowy odbędzie się w niedzielę od godziny 11.00 w Wojewódzkim Domu Kultury w Rzeszowie. \nCałość poprowadzi Stanisław Jaskułka. \nOrganizatorami konkursu są: Wojewódzki Domu Kultury w Rzeszowie\, Gminne Centrum Kultury Sportu i Rekreacji w Trzcianie  oraz Ministerstwo Kultury i Dziedzictwa Narodowego. \nPatronat nad wydarzeniem objęli Marszałek Województwa Podkarpackiego oraz Wójt Gminy Świlcza. \n \n  \n  \n \n  \n 
URL:https://gckswilcza.pl/event/39-ogolnopolski-konkurs-tradycyjnego-tanca-ludowego-21-22-10-2023/
LOCATION:GCKSiR – Trzciana\, Trzciana 353c\, Trzciana\, Podkarpackie\, 36-071\, Poland
ATTACH;FMTTYPE=image/jpeg:https://gckswilcza.pl/wp-content/uploads/2023/10/Plakat-taniec-tradycyjny-2023.jpg
END:VEVENT
END:VCALENDAR