BEGIN:VCALENDAR
VERSION:2.0
PRODID:-//GCKSiR - ECPv6.15.15//NONSGML v1.0//EN
CALSCALE:GREGORIAN
METHOD:PUBLISH
X-ORIGINAL-URL:https://gckswilcza.pl
X-WR-CALDESC:Wydarzenia dla GCKSiR
REFRESH-INTERVAL;VALUE=DURATION:PT1H
X-Robots-Tag:noindex
X-PUBLISHED-TTL:PT1H
BEGIN:VTIMEZONE
TZID:Europe/Warsaw
BEGIN:DAYLIGHT
TZOFFSETFROM:+0100
TZOFFSETTO:+0200
TZNAME:CEST
DTSTART:20230326T010000
END:DAYLIGHT
BEGIN:STANDARD
TZOFFSETFROM:+0200
TZOFFSETTO:+0100
TZNAME:CET
DTSTART:20231029T010000
END:STANDARD
BEGIN:DAYLIGHT
TZOFFSETFROM:+0100
TZOFFSETTO:+0200
TZNAME:CEST
DTSTART:20240331T010000
END:DAYLIGHT
BEGIN:STANDARD
TZOFFSETFROM:+0200
TZOFFSETTO:+0100
TZNAME:CET
DTSTART:20241027T010000
END:STANDARD
BEGIN:DAYLIGHT
TZOFFSETFROM:+0100
TZOFFSETTO:+0200
TZNAME:CEST
DTSTART:20250330T010000
END:DAYLIGHT
BEGIN:STANDARD
TZOFFSETFROM:+0200
TZOFFSETTO:+0100
TZNAME:CET
DTSTART:20251026T010000
END:STANDARD
END:VTIMEZONE
BEGIN:VEVENT
DTSTART;TZID=Europe/Warsaw:20241005T161500
DTEND;TZID=Europe/Warsaw:20241005T180000
DTSTAMP:20260420T095305
CREATED:20241003T093704Z
LAST-MODIFIED:20241003T093704Z
UID:6970-1728144900-1728151200@gckswilcza.pl
SUMMARY:XII Ponadregionalny Przegląd Pieśni Maryjnej
DESCRIPTION:
URL:https://gckswilcza.pl/event/xii-ponadregionalny-przeglad-piesni-maryjnej/
LOCATION:Parafia pw. św. Łukasza Ewangelisty w Mrowli\, Mrowla 79\, Mrowla\, podkarpackie\, 36-054\, Poland
ATTACH;FMTTYPE=image/jpeg:https://gckswilcza.pl/wp-content/uploads/2024/10/XII-PONADREGIONALNY-KONKURS-PIESNI-MARYJNEJ.jpg
END:VEVENT
BEGIN:VEVENT
DTSTART;TZID=Europe/Warsaw:20241012T090000
DTEND;TZID=Europe/Warsaw:20241012T183000
DTSTAMP:20260420T095305
CREATED:20241003T095251Z
LAST-MODIFIED:20241011T055035Z
UID:6973-1728723600-1728757800@gckswilcza.pl
SUMMARY:40. Ogólnopolski Konkurs Tradycyjnego Tańca Ludowego
DESCRIPTION:
URL:https://gckswilcza.pl/event/40-ogolnopolski-konkurs-tradycyjnego-tanca-ludowego/
LOCATION:GCKSiR – Trzciana\, Trzciana 353c\, Trzciana\, Podkarpackie\, 36-071\, Poland
ATTACH;FMTTYPE=image/jpeg:https://gckswilcza.pl/wp-content/uploads/2024/10/Plakat-ostateczny-krzywe-druk.jpg
ORGANIZER;CN="Wojew%C3%B3dzki Domu Kultury w Rzeszowie":MAILTO:wdk@kulturapodkarpacka.pl
END:VEVENT
BEGIN:VEVENT
DTSTART;TZID=Europe/Warsaw:20241019T180000
DTEND;TZID=Europe/Warsaw:20241019T190000
DTSTAMP:20260420T095305
CREATED:20241014T165350Z
LAST-MODIFIED:20241014T165350Z
UID:7136-1729360800-1729364400@gckswilcza.pl
SUMMARY:Koncert Kapeli Ludowej "Moja Scheda"
DESCRIPTION:
URL:https://gckswilcza.pl/event/koncert-kapeli-ludowej-moja-scheda/
LOCATION:GCKSiR – Trzciana\, Trzciana 353c\, Trzciana\, Podkarpackie\, 36-071\, Poland
ATTACH;FMTTYPE=image/jpeg:https://gckswilcza.pl/wp-content/uploads/2024/10/462920831_1067251128735490_6390483416186474045_n.jpg
END:VEVENT
BEGIN:VEVENT
DTSTART;TZID=Europe/Warsaw:20241026T091500
DTEND;TZID=Europe/Warsaw:20241026T183000
DTSTAMP:20260420T095305
CREATED:20241017T084528Z
LAST-MODIFIED:20241017T084528Z
UID:7140-1729934100-1729967400@gckswilcza.pl
SUMMARY:III Festiwal Chóralny RESOVIA SINGS
DESCRIPTION:
URL:https://gckswilcza.pl/event/iii-festiwal-choralny-resovia-sings/
LOCATION:GCKSiR – Trzciana\, Trzciana 353c\, Trzciana\, Podkarpackie\, 36-071\, Poland
ATTACH;FMTTYPE=image/jpeg:https://gckswilcza.pl/wp-content/uploads/2024/10/Resovia-sings-plakat_page-0001-scaled.jpg
END:VEVENT
END:VCALENDAR