BEGIN:VCALENDAR
VERSION:2.0
PRODID:-//GCKSiR - ECPv6.15.15//NONSGML v1.0//EN
CALSCALE:GREGORIAN
METHOD:PUBLISH
X-ORIGINAL-URL:https://gckswilcza.pl
X-WR-CALDESC:Wydarzenia dla GCKSiR
REFRESH-INTERVAL;VALUE=DURATION:PT1H
X-Robots-Tag:noindex
X-PUBLISHED-TTL:PT1H
BEGIN:VTIMEZONE
TZID:Europe/Warsaw
BEGIN:DAYLIGHT
TZOFFSETFROM:+0100
TZOFFSETTO:+0200
TZNAME:CEST
DTSTART:20240331T010000
END:DAYLIGHT
BEGIN:STANDARD
TZOFFSETFROM:+0200
TZOFFSETTO:+0100
TZNAME:CET
DTSTART:20241027T010000
END:STANDARD
BEGIN:DAYLIGHT
TZOFFSETFROM:+0100
TZOFFSETTO:+0200
TZNAME:CEST
DTSTART:20250330T010000
END:DAYLIGHT
BEGIN:STANDARD
TZOFFSETFROM:+0200
TZOFFSETTO:+0100
TZNAME:CET
DTSTART:20251026T010000
END:STANDARD
BEGIN:DAYLIGHT
TZOFFSETFROM:+0100
TZOFFSETTO:+0200
TZNAME:CEST
DTSTART:20260329T010000
END:DAYLIGHT
BEGIN:STANDARD
TZOFFSETFROM:+0200
TZOFFSETTO:+0100
TZNAME:CET
DTSTART:20261025T010000
END:STANDARD
END:VTIMEZONE
BEGIN:VEVENT
DTSTART;TZID=Europe/Warsaw:20250601T180000
DTEND;TZID=Europe/Warsaw:20250601T190000
DTSTAMP:20260419T210119
CREATED:20250521T115711Z
LAST-MODIFIED:20250521T115711Z
UID:8599-1748800800-1748804400@gckswilcza.pl
SUMMARY:Koncert Chórów GCKSiR
DESCRIPTION:
URL:https://gckswilcza.pl/event/koncert-chorow-gcksir-2/
LOCATION:Podkarpackie
ATTACH;FMTTYPE=image/jpeg:https://gckswilcza.pl/wp-content/uploads/2025/05/Najtrudniejszy-pierwszy-krok-plakat-scaled.jpg
END:VEVENT
BEGIN:VEVENT
DTSTART;TZID=Europe/Warsaw:20250608T180000
DTEND;TZID=Europe/Warsaw:20250608T193000
DTSTAMP:20260419T210119
CREATED:20250527T090428Z
LAST-MODIFIED:20250527T090428Z
UID:8607-1749405600-1749411000@gckswilcza.pl
SUMMARY:Koncert "Wirujące Planety"
DESCRIPTION:
URL:https://gckswilcza.pl/event/koncert-wirujace-planety/
LOCATION:GCKSiR – Trzciana\, Trzciana 353c\, Trzciana\, Podkarpackie\, 36-071\, Poland
ATTACH;FMTTYPE=image/jpeg:https://gckswilcza.pl/wp-content/uploads/2025/05/Wirujace-planety-plakat1-scaled.jpg
END:VEVENT
BEGIN:VEVENT
DTSTART;TZID=Europe/Warsaw:20250629T110000
DTEND;TZID=Europe/Warsaw:20250629T140000
DTSTAMP:20260419T210119
CREATED:20250618T101221Z
LAST-MODIFIED:20250618T101221Z
UID:8717-1751194800-1751205600@gckswilcza.pl
SUMMARY:Złote Gody - Jubileusz Par Małżeńskich
DESCRIPTION:
URL:https://gckswilcza.pl/event/zlote-gody-jubileusz-par-malzenskich/
LOCATION:Bratkowice – Park Podworski\, Park Dworski\, Bratkowice\, Podkarpackie\, 36-055\, Poland
ATTACH;FMTTYPE=image/jpeg:https://gckswilcza.pl/wp-content/uploads/2025/06/Jubileusz-Par-Malzenskich-2025-plakat1-scaled.jpg
END:VEVENT
END:VCALENDAR